Workbook

Sheet Voorschoolse opvang
B2: Prijsberekening vooropvang
A4: Week: | B4: 46225
A7: Maandag | B7: 7u - 7u30 | C7: 7u30 - 8u | D7: 8u-8u30 | E7: dagtotaal voorschoolse opvang | G7: Fiscaal voordeel per kind
A9: sociaal tarief | B9: =IF(B8="sociaal tarief",0.75,"") | C9: =IF(C8="sociaal tarief",0.75,"") | D9: =IF(D8="sociaal tarief",0.75,"") | E9: =SUM(B9:B9:D9) -> 0 | F9: =E9 -> 0 | G9: =E9*0.45 -> 0
A10: Basis | B10: =IF(B8="basis",1.5,"") | C10: =IF(C8="basis",1.5,"") | D10: =IF(D8="basis",1.5,"") | E10: =SUM(B10:B10:D10) -> 0 | F10: =E10 -> 0 | G10: =E10*0.45 -> 0
A12: Dinsdag | B12: 7u - 7u30 | C12: 7u30 - 8u | D12: 8u-8u30 | E12: dagtotaal voorschoolse opvang
A14: sociaal tarief | B14: =IF(B13="sociaal tarief",0.75,"") | C14: =IF(C13="sociaal tarief",0.75,"") | D14: =IF(D13="sociaal tarief",0.75,"") | E14: =SUM(B14:B14:D14) -> 0 | F14: =E14 -> 0 | G14: =E14*0.45 -> 0
A15: Basis | B15: =IF(B13="basis",1.5,"") | C15: =IF(C13="basis",1.5,"") | D15: =IF(D13="basis",1.5,"") | E15: =SUM(B15:B15:D15) -> 0 | F15: =E15 -> 0 | G15: =E15*0.45 -> 0
A17: Woensdag | B17: 7u - 7u30 | C17: 7u30 - 8u | D17: 8u-8u30 | E17: dagtotaal voorschoolse opvang
A19: sociaal tarief | B19: =IF(B18="sociaal tarief",0.75,"") | C19: =IF(C18="sociaal tarief",0.75,"") | D19: =IF(D18="sociaal tarief",0.75,"") | E19: =SUM(B19:B19:D19) -> 0 | F19: =E19 -> 0 | G19: =E19*0.45 -> 0
A20: Basis | B20: =IF(B18="basis",1.5,"") | C20: =IF(C18="basis",1.5,"") | D20: =IF(D18="basis",1.5,"") | E20: =SUM(B20:B20:D20) -> 0 | F20: =E20 -> 0 | G20: =E20*0.45 -> 0
A22: Donderdag | B22: 7u - 7u30 | C22: 7u30 - 8u | D22: 8u-8u30 | E22: dagtotaal voorschoolse opvang
A24: sociaal tarief | B24: =IF(B23="sociaal tarief",0.75,"") | C24: =IF(C23="sociaal tarief",0.75,"") | D24: =IF(D23="sociaal tarief",0.75,"") | E24: =SUM(B24:B24:D24) -> 0 | F24: =E24 -> 0 | G24: =E24*0.45 -> 0
A25: Basis | B25: =IF(B23="basis",1.5,"") | C25: =IF(C23="basis",1.5,"") | D25: =IF(D23="basis",1.5,"") | E25: =SUM(B25:B25:D25) -> 0 | F25: =E25 -> 0 | G25: =E25*0.45 -> 0
A27: Vrijdag | B27: 7u - 7u30 | C27: 7u30 - 8u | D27: 8u-8u30 | E27: dagtotaal voorschoolse opvang
A29: sociaal tarief | B29: =IF(B28="sociaal tarief",0.75,"") | C29: =IF(C28="sociaal tarief",0.75,"") | D29: =IF(D28="sociaal tarief",0.75,"") | E29: =SUM(B29:B29:D29) -> 0 | F29: =E29 -> 0 | G29: =E29*0.45 -> 0
A30: Basis | B30: =IF(B28="basis",1.5,"") | C30: =IF(C28="basis",1.5,"") | D30: =IF(D28="basis",1.5,"") | E30: =SUM(B30:B30:D30) -> 0 | F30: =E30 -> 0 | G30: =E30*0.45 -> 0
B33: aantal kinderen | C33: 0 | D33: Weektotaal voorschoolse opvang (sociaal tarief) | E33: =G33*C33 -> 0 | G33: =SUM(E9,E14,E19,E24,E29) -> 0
D35: Weektotaal voorschoolse opvang (basis) | E35: =G35*C33 -> 0 | G35: =SUM(E10,E15,E20,E25,E30) -> 0
E38: =E33 -> 0
E39: =E35 -> 0

Sheet Woensdagnamiddag
B2: Prijsberekening woensdagnamiddag
A4: Week: | B4: ='Voorschoolse opvang'!B4 -> 46225
A7: Woensdagnamiddag (12u-15u) | B7: Forfaitaire kost (1u of minder aanwezig) | C7: 12u-12u30 | D7: 12u30-13u | E7: 13u-13u30 | F7: 13u30-14u | G7: 14u-14u30 | H7: 14u30-15u | J7: Fiscaal voordeel per dag per kind
A9: sociaal tarief | B9: =IF(B8="sociaal tarief",1.5,"") | C9: =IF(B8="sociaal tarief","x","") | D9: =IF(B8="sociaal tarief","x","") | E9: =IF(E8="sociaal tarief",0.75,"") | F9: =IF(F8="sociaal tarief",0.75,"") | G9: =IF(G8="sociaal tarief",0.75,"") | H9: =IF(H8="sociaal tarief",0.75,"") | I9: =SUM(B9,E9,F9,G9,H9,B14,C14,D14,E14,F14,G14) -> 0 | J9: =I9*0.45 -> 0
A10: basis | B10: =IF(B8="basis",3,"") | C10: =IF(B8="basis","x","") | D10: =IF(B8="basis","x","") | E10: =IF(E8="basis",1.5,"") | F10: =IF(F8="basis",1.5,"") | G10: =IF(G8="basis",1.5,"") | H10: =IF(H8="basis",1.5,"") | I10: =SUM(B10,E10,F10,G10,H10,B15,C15,D15,E15,F15,G15) -> 0 | J10: =I10*0.45 -> 0
A12: Woensdagnamiddag (15u-18u) | B12: 15u-15u30 | C12: 15u30-16u | D12: 16u-16u30 | E12: 16u30-17u | F12: 17u-17u30 | G12: 17u30-18u
A14: sociaal tarief | B14: =IF(B13="sociaal tarief",0.75,"") | C14: =IF(C13="sociaal tarief",0.75,"") | D14: =IF(D13="sociaal tarief",0.75,"") | E14: =IF(E13="sociaal tarief",0.75,"") | F14: =IF(F13="sociaal tarief",0.75,"") | G14: =IF(G13="sociaal tarief",0.75,"") | H14: =SUM(B9,E9,F9,G9,H9,B14,C14,D14,E14,F14:G14) -> 0
A15: basis | B15: =IF(B13="basis",1.5,"") | C15: =IF(C13="basis",1.5,"") | D15: =IF(D13="basis",1.5,"") | E15: =IF(E13="basis",1.5,"") | F15: =IF(F13="basis",1.5,"") | G15: =IF(G13="basis",1.5,"") | H15: =SUM(B10,E10,F10,G10,H10,B15,C15,D15,E15,F15:G15) -> 0
D17: aantal kinderen: | E17: 0 | G17: Totaal sociaal tarief | H17: =H14*E17 -> 0
G19: Totaal basis | H19: =H15*E17 -> 0
H21: =H17 -> 0
H22: =H19 -> 0

Sheet Naschoolse opvang
B2: Prijsberekening naschoolse opvang
A4: Week: | B4: ='Voorschoolse opvang'!$B$4 -> 46225
A7: Maandag | B7: Forfaitaire kost (1u of minder aanwezig) | C7: 15u-15u30 | D7: 15u30-16u | E7: 16u-16u30 | F7: 16u30-17u | G7: 17u-17u30 | H7: 17u30-18u | I7: dagtotaal | K7: Fiscaal voordeel per kind
A9: sociaal tarief | B9: =IF(B8="sociaal tarief",1.5,"") | C9: =IF(B8="sociaal tarief","x","") | D9: =IF(B8="sociaal tarief","x","") | E9: =IF(E8="sociaal tarief",0.75,"") | F9: =IF(F8="sociaal tarief",0.75,"") | G9: =IF(G8="sociaal tarief",0.75,"") | H9: =IF(H8="sociaal tarief",0.75,"") | I9: =SUM(B9,E9,F9,G9,H9) -> 0 | J9: =I9 -> 0 | K9: =I9*0.45 -> 0
A10: basis | B10: =IF(B8="basis",3,"") | C10: =IF(B8="basis","x","") | D10: =IF(B8="basis","x","") | E10: =IF(E8="basis",1.5,"") | F10: =IF(F8="basis",1.5,"") | G10: =IF(G8="basis",1.5,"") | H10: =IF(H8="basis",1.5,"") | I10: =SUM(B10,E10,F10,G10,H10) -> 0 | J10: =I10 -> 0 | K10: =I10*0.45 -> 0 | L10: =K10 -> 0
A12: Dinsdag | B12: Forfaitaire kost (1u of minder aanwezig) | C12: 15u-15u30 | D12: 15u30-16u | E12: 16u-16u30 | F12: 16u30-17u | G12: 17u-17u30 | H12: 17u30-18u | I12: dagtotaal
A14: sociaal tarief | B14: =IF(B13="sociaal tarief",1.5,"") | C14: =IF(B13="sociaal tarief","x","") | D14: =IF(B13="sociaal tarief","x","") | E14: =IF(E13="sociaal tarief",0.75,"") | F14: =IF(F13="sociaal tarief",0.75,"") | G14: =IF(G13="sociaal tarief",0.75,"") | H14: =IF(H13="sociaal tarief",0.75,"") | I14: =SUM(B14,E14,F14,G14,H14) -> 0 | K14: =I14*0.45 -> 0
A15: basis | B15: =IF(B13="basis",3,"") | C15: =IF(B13="basis","x","") | D15: =IF(B13="basis","x","") | E15: =IF(E13="basis",1.5,"") | F15: =IF(F13="basis",1.5,"") | G15: =IF(G13="basis",1.5,"") | H15: =IF(H13="basis",1.5,"") | I15: =SUM(B15,E15,F15,G15,H15) -> 0 | K15: =I15*0.45 -> 0
A17: Woensdag | B17: Forfaitaire kost (1u of minder aanwezig) | C17: 15u-15u30 | D17: 15u30-16u | E17: 16u-16u30 | F17: 16u30-17u | G17: 17u-17u30 | H17: 17u30-18u | I17: dagtotaal
A19: sociaal tarief | B19: =IF(B18="sociaal tarief",1.5,"") | C19: =IF(B18="sociaal tarief","x","") | D19: =IF(B18="sociaal tarief","x","") | E19: =IF(E18="sociaal tarief",0.75,"") | F19: =IF(F18="sociaal tarief",0.75,"") | G19: =IF(G18="sociaal tarief",0.75,"") | H19: =IF(H18="sociaal tarief",0.75,"") | I19: =SUM(B19,E19,F19,G19,H19) -> 0 | K19: =I19*0.45 -> 0
A20: basis | B20: =IF(B18="basis",3,"") | C20: =IF(B18="basis","x","") | D20: =IF(B18="basis","x","") | E20: =IF(E18="basis",1.5,"") | F20: =IF(F18="basis",1.5,"") | G20: =IF(G18="basis",1.5,"") | H20: =IF(H18="basis",1.5,"") | I20: =SUM(B20,E20,F20,G20,H20) -> 0 | K20: =I20*0.45 -> 0
A22: Donderdag | B22: Forfaitaire kost (1u of minder aanwezig) | C22: 15u-15u30 | D22: 15u30-16u | E22: 16u-16u30 | F22: 16u30-17u | G22: 17u-17u30 | H22: 17u30-18u | I22: dagtotaal
A24: sociaal tarief | B24: =IF(B23="sociaal tarief",1.5,"") | C24: =IF(B23="sociaal tarief","x","") | D24: =IF(B23="sociaal tarief","x","") | E24: =IF(E23="sociaal tarief",0.75,"") | F24: =IF(F23="sociaal tarief",0.75,"") | G24: =IF(G23="sociaal tarief",0.75,"") | H24: =IF(H23="sociaal tarief",0.75,"") | I24: =SUM(B24,E24,F24,G24,H24) -> 0 | K24: =I24*0.45 -> 0
A25: basis | B25: =IF(B23="basis",3,"") | C25: =IF(B23="basis","x","") | D25: =IF(B23="basis","x","") | E25: =IF(E23="basis",1.5,"") | F25: =IF(F23="basis",1.5,"") | G25: =IF(G23="basis",1.5,"") | H25: =IF(H23="basis",1.5,"") | I25: =SUM(B25,E25,F25,G25,H25) -> 0 | K25: =I25*0.45 -> 0
A27: Vrijdag | B27: Forfaitaire kost (1u of minder aanwezig) | C27: 15u-15u30 | D27: 15u30-16u | E27: 16u-16u30 | F27: 16u30-17u | G27: 17u-17u30 | H27: 17u30-18u | I27: dagtotaal
A29: sociaal tarief | B29: =IF(B28="sociaal tarief",1.5,"") | C29: =IF(B28="sociaal tarief","x","") | D29: =IF(B28="sociaal tarief","x","") | E29: =IF(E28="sociaal tarief",0.75,"") | F29: =IF(F28="sociaal tarief",0.75,"") | G29: =IF(G28="sociaal tarief",0.75,"") | H29: =IF(H28="sociaal tarief",0.75,"") | I29: =SUM(B29,E29,F29,G29,H29) -> 0 | J29: =SUM(I9,I14,I19,I24,I29) -> 0 | K29: =I29*0.45 -> 0
A30: basis | B30: =IF(B28="basis",3,"") | C30: =IF(B28="basis","x","") | D30: =IF(B28="basis","x","") | E30: =IF(E28="basis",1.5,"") | F30: =IF(F28="basis",1.5,"") | G30: =IF(G28="basis",1.5,"") | H30: =IF(H28="basis",1.5,"") | I30: =SUM(B30,E30,F30,G30,H30) -> 0 | J30: =SUM(I10,I15,I20,I25,I30) -> 0 | K30: =I30*0.45 -> 0
E32: aantal kinderen: | F32: 0 | H32: Totaal sociaal tarief | I32: =J32*F32 -> 0 | J32: =SUM(I9,I14,J19,I24,I29) -> 0
H34: Totaal basis | I34: =J34*F32 -> 0 | J34: =SUM(I10,I15,I20,I25,I30) -> 0
I36: =I32 -> 0
I37: =I34 -> 0

Sheet Totaal per week
B2: Totaal per week
A4: Week: | B4: ='Voorschoolse opvang'!B4 -> 46225
A7: Weektotaal per gezien | B7: Vooropvang | C7: woensdagnamiddag | D7: Naopvang | E7: Weektotaal per gezin
A8: sociaal tarief | B8: ='Voorschoolse opvang'!E38 -> 0 | C8: =Woensdagnamiddag!H21 -> 0 | D8: ='Naschoolse opvang'!I36 -> 0 | E8: =SUM(B8:D8) -> 0
A9: basis | B9: ='Voorschoolse opvang'!E39 -> 0 | C9: =Woensdagnamiddag!H22 -> 0 | D9: ='Naschoolse opvang'!I37 -> 0 | E9: =SUM(B9:D9) -> 0
A12: Administratiebijdrage per schooljaar sociaal tarief (per gezin) | B12: 12.5
A13: Administratiebijdrage per schooljaar basis (per gezin) | B13: 25

Sheet Fiscaal voordeel
B2: Fiscaal voordeel per week
A4: Week: | B4: ='Voorschoolse opvang'!B4 -> 46225
A7: Maandag | B7: Vooropvang | C7: Naopvang | D7: Dagtotaal per kind | E7: Max € 16,90 per kind
A8: sociaal tarief | B8: ='Voorschoolse opvang'!G9 -> 0 | C8: ='Naschoolse opvang'!K9 -> 0 | D8: =SUM(B8:C8) -> 0 | E8: =IF(D8>16.9,16.9,D8) -> 0
A9: basis | B9: ='Voorschoolse opvang'!G10 -> 0 | C9: ='Naschoolse opvang'!K10 -> 0 | D9: =SUM(B9:C9) -> 0 | E9: =IF(D9>16.9,16.9,D9) -> 0
A11: Dinsdag | B11: Vooropvang | C11: Naopvang | D11: Weektotaal per kind
A12: sociaal tarief | B12: ='Voorschoolse opvang'!G14 -> 0 | C12: ='Naschoolse opvang'!K14 -> 0 | D12: =SUM(B12:C12) -> 0 | E12: =IF(D12>16.9,16.9,D12) -> 0
A13: basis | B13: ='Voorschoolse opvang'!G15 -> 0 | C13: ='Naschoolse opvang'!I41 -> 0 | D13: =SUM(B13:C13) -> 0 | E13: =IF(D13>16.9,16.9,D13) -> 0
A15: Woensdag | B15: Vooropvang | C15: Namiddag | D15: Weektotaal per kind
A16: sociaal tarief | B16: ='Voorschoolse opvang'!G19 -> 0 | C16: =Woensdagnamiddag!J9 -> 0 | D16: =SUM(B16:C16) -> 0 | E16: =IF(D16>16.9,16.9,D16) -> 0
A17: basis | B17: ='Voorschoolse opvang'!G20 -> 0 | C17: =Woensdagnamiddag!J10 -> 0 | D17: =SUM(B17:C17) -> 0 | E17: =IF(D17>16.9,16.9,D17) -> 0
A20: Donderdag | B20: Vooropvang | C20: Naopvang | D20: Weektotaal per gezin
A21: sociaal tarief | B21: ='Voorschoolse opvang'!G24 -> 0 | C21: ='Naschoolse opvang'!I48 -> 0 | D21: =SUM(B21:C21) -> 0 | E21: =IF(D21>16.9,16.9,D21) -> 0
A22: basis | B22: ='Voorschoolse opvang'!G25 -> 0 | C22: ='Naschoolse opvang'!I49 -> 0 | D22: =SUM(B22:C22) -> 0 | E22: =IF(D22>16.9,16.9,D22) -> 0
A24: Vrijdag | B24: Vooropvang | C24: Naopvang | D24: Weektotaal per gezin
A25: sociaal tarief | B25: ='Voorschoolse opvang'!G29 -> 0 | C25: ='Naschoolse opvang'!I52 -> 0 | D25: =SUM(B25:C25) -> 0 | E25: =IF(D25>16.9,16.9,D25) -> 0
A26: basis | B26: ='Voorschoolse opvang'!G30 -> 0 | C26: ='Naschoolse opvang'!I53 -> 0 | D26: =SUM(B26:C26) -> 0 | E26: =IF(D26>16.9,16.9,D26) -> 0
C28: Weektotaal per kind sociaal tarief | D28: =SUM(E8,E12,E16,E21,E25) -> 0
A30: Aantal kinderen: | B30: 0 | C30: Weektotaal per kind basis | D30: =SUM(E9,E13,E17,E22,E26) -> 0
C32: Weektotaal gezin sociaal tarief | D32: =D28*B30 -> 0
C34: Weektotaal gezin basis | D34: =D30*B30 -> 0

Sheet Gegevensvalidatie
F3: 0
B4: 1.5 | F4: 1 | I4: 3 | K4: basis
B5: 0.75 | F5: 2 | I5: 1.5 | K5: sociaal tarief
F6: 3
F7: 4
